BEGIN:VCALENDAR
VERSION:2.0
PRODID:-//John T. Milliken Department of Medicine//NONSGML Events//EN
CALSCALE:GREGORIAN
X-ORIGINAL-URL:https://internalmedicine.wustl.edu/events/
X-WR-CALDESC:John T. Milliken Department of Medicine - Events
BEGIN:VEVENT
UID:20210519T1807Z-1621447634.4891-EO-21985-1@172.23.128.18
STATUS:CONFIRMED
DTSTAMP:20260424T151312Z
CREATED:20210519T174929Z
LAST-MODIFIED:20210519T174929Z
DTSTART;TZID=America/Chicago:20210520T130000
DTEND;TZID=America/Chicago:20210520T140000
SUMMARY: Write Like This\, Not Like That: One-on One
DESCRIPTION: This 60-minute customized session is designed to provide tips\
 , tools and examples on how to present your message in a clear and impactfu
 l way whether it’s for journal articles\, grants\, or virtual presentations
 . To reserve your time during this session or to schedule a different sessi
 on\, contact karen.dodson@wustl.edu Join the Zoom meeting.
X-ALT-DESC;FMTTYPE=text/html: <p>This 60-minute customized session is desig
 ned to provide tips\, tools and examples on how to present your message in 
 a clear and impactful way whether it’s for journal articles\, grants\, or v
 irtual presentations. To reserve your time during this session or to schedu
 le a different session\, contact <a href="mailto:karen.dodson@wustl.edu">ka
 ren.dodson@wustl.edu</a></p><p>Join the <a href="https://zoom.us/j/91787712
 947?pwd=bE1scW53Skoyd1k4Q3h2VEpZY01IQT09#succe">Zoom meeting</a>.</p>
CATEGORIES:Office of Faculty Affairs
LOCATION:Zoom
GEO:38.635144;-90.262929
ORGANIZER;CN="McKinzie":MAILTO:tolliver.m@wustl.edu
URL;VALUE=URI:https://internalmedicine.wustl.edu/events/event/write-like-th
 is-not-like-that-one-on-one-2/
END:VEVENT
BEGIN:VTIMEZONE
TZID:America/Chicago
BEGIN:DAYLIGHT
TZOFFSETFROM:-0600
TZOFFSETTO:-0500
DTSTART:20210314T080000
TZNAME:CDT
END:DAYLIGHT
END:VTIMEZONE
END:VCALENDAR
