BEGIN:VCALENDAR
VERSION:2.0
PRODID:-//John T. Milliken Department of Medicine//NONSGML Events//EN
CALSCALE:GREGORIAN
X-ORIGINAL-URL:https://internalmedicine.wustl.edu/events/
X-WR-CALDESC:John T. Milliken Department of Medicine - Events
BEGIN:VEVENT
UID:20240821T0157Z-1724205428.5486-EO-57633-1@10.24.106.144
STATUS:CONFIRMED
DTSTAMP:20260420T104237Z
CREATED:20240821T012849Z
LAST-MODIFIED:20240821T012849Z
DTSTART;TZID=America/Chicago:20240912T150000
DTEND;TZID=America/Chicago:20240912T160000
SUMMARY: OTM Office Hours
DESCRIPTION: Midyear Market Report from J.P. Morgan Are you working on an i
 nnovation you think should be spun out into a startup? What resources are a
 vailable to help? How can you become involved in the innovation ecosystem i
 n St. Louis? Join us for “OTM Office Hours”\, a program series from the Was
 hington University Office of Technology […]
X-ALT-DESC;FMTTYPE=text/html: <h3 class="event-title entry-title">Midyear M
 arket Report from J.P. Morgan</h3><p>Are you working on an innovation you t
 hink should be spun out into a startup? What resources are available to hel
 p? How can you become involved in the innovation ecosystem in St. Louis?</p
 ><p>Join us for “OTM Office Hours”\, a program series from the Washington U
 niversity Office of Technology Management covering the latest topics in tec
 h transfer and innovation.</p><p><strong><a href="https://otm.wustl.edu/cal
 endar_event/midyear-market-report-from-jp-morgan/" target="_blank" rel="noo
 pener">Learn more and register here.</a></strong></p>
CATEGORIES:Office of Technology Management
LOCATION:Office of Technology Management
GEO:38.634778;-90.251658
ORGANIZER;CN="McKinzie":MAILTO:tolliver.m@wustl.edu
URL;VALUE=URI:https://internalmedicine.wustl.edu/events/event/otm-office-ho
 urs/
END:VEVENT
BEGIN:VTIMEZONE
TZID:America/Chicago
BEGIN:DAYLIGHT
TZOFFSETFROM:-0600
TZOFFSETTO:-0500
DTSTART:20240310T080000
TZNAME:CDT
END:DAYLIGHT
END:VTIMEZONE
END:VCALENDAR
