BEGIN:VCALENDAR
VERSION:2.0
PRODID:-//John T. Milliken Department of Medicine//NONSGML Events//EN
CALSCALE:GREGORIAN
X-ORIGINAL-URL:https://internalmedicine.wustl.edu/events/
X-WR-CALDESC:John T. Milliken Department of Medicine - Events
BEGIN:VEVENT
UID:20241211T2206Z-1733954807.9375-EO-59220-1@10.24.106.144
STATUS:CONFIRMED
DTSTAMP:20260423T225438Z
CREATED:20241211T215703Z
LAST-MODIFIED:20241211T215703Z
DTSTART;TZID=America/Chicago:20250313T150000
DTEND;TZID=America/Chicago:20250313T160000
SUMMARY: OTM Office Hours
DESCRIPTION: Therapeutics – Idea to Drug Are you working on an innovation y
 ou think should be spun out into a startup? What resources are available to
  help? How can you become involved in the innovation ecosystem in St. Louis
 ? Join us for “OTM Office Hours”\, a program series from the Washington Uni
 versity Office of Technology Management […]
X-ALT-DESC;FMTTYPE=text/html: <h2 class="event-title entry-title">Therapeut
 ics – Idea to Drug</h2><p>Are you working on an innovation you think should
  be spun out into a startup? What resources are available to help? How can 
 you become involved in the innovation ecosystem in St. Louis?</p><p>Join us
  for “OTM Office Hours”\, a program series from the Washington University O
 ffice of Technology Management covering the latest topics in tech transfer 
 and innovation.</p><p><a href="https://sites.wustl.edu/officeoftechnologyma
 nagement/calendar_event/otm-office-hours-therapeutics-idea-to-drug/" target
 ="_blank" rel="noopener">Learn more.</a></p>
CATEGORIES:Office of Technology Management
ORGANIZER;CN="McKinzie":MAILTO:tolliver.m@wustl.edu
URL;VALUE=URI:https://internalmedicine.wustl.edu/events/event/otm-office-ho
 urs-6/
END:VEVENT
BEGIN:VTIMEZONE
TZID:America/Chicago
BEGIN:DAYLIGHT
TZOFFSETFROM:-0600
TZOFFSETTO:-0500
DTSTART:20250309T080000
TZNAME:CDT
END:DAYLIGHT
END:VTIMEZONE
END:VCALENDAR
