BEGIN:VCALENDAR
VERSION:2.0
PRODID:-//John T. Milliken Department of Medicine//NONSGML Events//EN
CALSCALE:GREGORIAN
X-ORIGINAL-URL:https://internalmedicine.wustl.edu/events/
X-WR-CALDESC:John T. Milliken Department of Medicine - Events
BEGIN:VEVENT
UID:20240821T0157Z-1724205428.7231-EO-57635-1@10.24.106.144
STATUS:CONFIRMED
DTSTAMP:20260422T173033Z
CREATED:20240821T013102Z
LAST-MODIFIED:20240821T013102Z
DTSTART;TZID=America/Chicago:20241114T150000
DTEND;TZID=America/Chicago:20241114T160000
SUMMARY: OTM Office Hours
DESCRIPTION: The Founder’s Perspective Are you working on an innovation you
  think should be spun out into a startup? What resources are available to h
 elp? How can you become involved in the innovation ecosystem in St. Louis? 
 Join us for “OTM Office Hours”\, a program series from the Washington Unive
 rsity Office of Technology Management covering the […]
X-ALT-DESC;FMTTYPE=text/html: <h3 class="event-title entry-title">The Found
 er’s Perspective</h3><p>Are you working on an innovation you think should b
 e spun out into a startup? What resources are available to help? How can yo
 u become involved in the innovation ecosystem in St. Louis?</p><p>Join us f
 or “OTM Office Hours”\, a program series from the Washington University Off
 ice of Technology Management covering the latest topics in tech transfer an
 d innovation.</p><p><strong><a href="https://otm.wustl.edu/calendar_event/o
 tm-office-hours-the-founders-perspective/" target="_blank" rel="noopener">L
 earn more and register here.</a></strong></p>
CATEGORIES:Office of Technology Management
LOCATION:Office of Technology Management
GEO:38.634778;-90.251658
ORGANIZER;CN="McKinzie":MAILTO:tolliver.m@wustl.edu
URL;VALUE=URI:https://internalmedicine.wustl.edu/events/event/otm-office-ho
 urs-3/
END:VEVENT
BEGIN:VTIMEZONE
TZID:America/Chicago
BEGIN:STANDARD
TZOFFSETFROM:-0500
TZOFFSETTO:-0600
DTSTART:20241103T070000
TZNAME:CST
END:STANDARD
END:VTIMEZONE
END:VCALENDAR
