BEGIN:VCALENDAR
VERSION:2.0
PRODID:-//John T. Milliken Department of Medicine//NONSGML Events//EN
CALSCALE:GREGORIAN
X-ORIGINAL-URL:https://internalmedicine.wustl.edu/events/
X-WR-CALDESC:John T. Milliken Department of Medicine - Events
BEGIN:VEVENT
UID:20240516T1930Z-1715887838.8759-EO-56108-1@172.23.128.18
STATUS:CONFIRMED
DTSTAMP:20260424T114451Z
CREATED:20240516T192608Z
LAST-MODIFIED:20240802T161854Z
DTSTART;TZID=America/Chicago:20240827T120000
DTEND;TZID=America/Chicago:20240827T160000
SUMMARY: New Faculty Orientation
DESCRIPTION: Location: Great Room A & B\, Eric P. Newman Education Center A
 ll new or recently hired faculty in the Department of Medicine are required
  to attend! Lunch provided. Registration is now open.
X-ALT-DESC;FMTTYPE=text/html: <p><strong>Location:</strong> Great Room A & 
 B\, Eric P. Newman Education Center</p><p>All new or recently hired faculty
  in the Department of Medicine are required to attend!</p><p>Lunch provided
 .</p><p><a href="https://wucrtc.az1.qualtrics.com/jfe/form/SV_1Y7a8TYQkuuWW
 4S">Registration</a> is now open.</p>
CATEGORIES:Office of Faculty Development
LOCATION:Eric P. Newman Education Center (EPNEC)
GEO:38.636704;-90.262574
ORGANIZER;CN="McKinzie":MAILTO:tolliver.m@wustl.edu
URL;VALUE=URI:https://internalmedicine.wustl.edu/events/event/office-of-fac
 ulty-development/
END:VEVENT
BEGIN:VTIMEZONE
TZID:America/Chicago
BEGIN:DAYLIGHT
TZOFFSETFROM:-0600
TZOFFSETTO:-0500
DTSTART:20240310T080000
TZNAME:CDT
END:DAYLIGHT
END:VTIMEZONE
END:VCALENDAR
