BEGIN:VCALENDAR
VERSION:2.0
PRODID:-//John T. Milliken Department of Medicine//NONSGML Events//EN
CALSCALE:GREGORIAN
X-ORIGINAL-URL:https://internalmedicine.wustl.edu/events/
X-WR-CALDESC:John T. Milliken Department of Medicine - Events
BEGIN:VEVENT
UID:20220218T1330Z-1645191033.7603-EO-41891-1@172.23.128.18
STATUS:CONFIRMED
DTSTAMP:20260421T153344Z
CREATED:20220218T131517Z
LAST-MODIFIED:20220218T131517Z
DTSTART;VALUE=DATE:20220318
DTEND;VALUE=DATE:20220319
SUMMARY: Match Day 2022
DESCRIPTION: Match Day 2022 will be on Friday\, March 18 and will be a larg
 ely virtual event\, given the risk to our community as the COVID-19 pandemi
 c continues to evolve. We encourage our senior medical students to share th
 eir photos\, videos and match results using the hashtag #WashUMed. We are i
 ncredibly proud of you and the work […]
X-ALT-DESC;FMTTYPE=text/html: <p>Match Day 2022 will be on Friday\, March 1
 8 and will be a largely virtual event\, given the risk to our community as 
 the COVID-19 pandemic continues to evolve.</p><p>We encourage our senior me
 dical students to share their photos\, videos and match results using the h
 ashtag <strong>#WashUMed</strong>. We are incredibly proud of you and the w
 ork you have done\, and we will sincerely miss celebrating with you directl
 y on Match Day.</p><p><a href="https://md.wustl.edu/events/match-day/">Lear
 n more.</a></p>
ORGANIZER;CN="McKinzie":MAILTO:tolliver.m@wustl.edu
URL;VALUE=URI:https://internalmedicine.wustl.edu/events/event/match-day-202
 2/
END:VEVENT
BEGIN:VTIMEZONE
TZID:America/Chicago
BEGIN:DAYLIGHT
TZOFFSETFROM:-0600
TZOFFSETTO:-0500
DTSTART:20220313T080000
TZNAME:CDT
END:DAYLIGHT
END:VTIMEZONE
END:VCALENDAR
