BEGIN:VCALENDAR
VERSION:2.0
PRODID:-//John T. Milliken Department of Medicine//NONSGML Events//EN
CALSCALE:GREGORIAN
X-ORIGINAL-URL:https://internalmedicine.wustl.edu/events/
X-WR-CALDESC:John T. Milliken Department of Medicine - Events
BEGIN:VEVENT
UID:20220309T1714Z-1646846097.4367-EO-42392-1@172.23.128.19
STATUS:CONFIRMED
DTSTAMP:20260424T180724Z
CREATED:20220309T171348Z
LAST-MODIFIED:20220309T171348Z
DTSTART;TZID=America/Chicago:20221019T080000
DTEND;TZID=America/Chicago:20221019T120000
SUMMARY: DOM Leadership Training Course – Session 3
DESCRIPTION: Training Objectives: Advance leadership and facilitation skill
 s to improve team dynamics and effectively achieve desired outcomes Enhance
  knowledge of the vocabulary\, concepts\, and strategies fundamental for su
 ccess in leading system and process change in health care Improve leadershi
 p effectiveness by enhancing situation appraisal and decision making skills
  Session 3: Lean Leadership – Participants will focus on […]
X-ALT-DESC;FMTTYPE=text/html: <p><strong>Training Objectives:</strong></p><
 ul><li>Advance leadership and facilitation skills to improve team dynamics 
 and effectively achieve desired outcomes</li><li>Enhance knowledge of the v
 ocabulary\, concepts\, and strategies fundamental for success in leading sy
 stem and process change in health care</li><li>Improve leadership effective
 ness by enhancing situation appraisal and decision making skills</li></ul><
 p><strong><em>Session 3: Lean Leadership </em></strong>– Participants will 
 focus on what it takes to become a culture of disciplined execution. The ba
 sics of the Toyota-based philosophy will be introduced including an overvie
 w of ValueStream Mapping\, Single Piece Flow\, Standard Work\, and Daily Ma
 nagement among other key components.</p><p><em>This course is open to all D
 OM Faculty. The cost for faculty selected to the program will be covered by
  the Department of Medicine.</em></p><p><strong>Applications downloaded fro
 m the <a href="https://internalmedicinefaculty.wustl.edu/development/leader
 ship/">OFD website</a></strong></p><p>Applicants should send completed form
 \, their CV\, and a letter of support from their Division Chief.</p><p><str
 ong><em>Application Deadline: May 1\, 2022</em></strong><br />Send applicat
 ions to Jennifer Mosher (<a href="mailto:mosherj@wustl.edu">mosherj@wustl.e
 du</a>)</p><p><strong>For questions or additional info\, please contact:</s
 trong><br />Jennifer Mosher\, Phone: 314-454-8960 | Email: <a href="mailto:
 mosherj@wustl.edu">mosherj@wustl.edu</a></p>
CATEGORIES:Office of Faculty Development
LOCATION:BJC Learning Institute
GEO:38.628111;-90.335534
ORGANIZER;CN="McKinzie":MAILTO:tolliver.m@wustl.edu
URL;VALUE=URI:https://internalmedicine.wustl.edu/events/event/dom-leadershi
 p-training-course-session-3-2/
END:VEVENT
BEGIN:VTIMEZONE
TZID:America/Chicago
BEGIN:DAYLIGHT
TZOFFSETFROM:-0600
TZOFFSETTO:-0500
DTSTART:20220313T080000
TZNAME:CDT
END:DAYLIGHT
END:VTIMEZONE
END:VCALENDAR
