BEGIN:VCALENDAR
VERSION:2.0
PRODID:-//John T. Milliken Department of Medicine//NONSGML Events//EN
CALSCALE:GREGORIAN
X-ORIGINAL-URL:https://internalmedicine.wustl.edu/events/
X-WR-CALDESC:John T. Milliken Department of Medicine - Events
BEGIN:VEVENT
UID:20230222T1708Z-1677085691.2193-EO-49356-1@172.23.128.18
STATUS:CONFIRMED
DTSTAMP:20260422T103813Z
CREATED:20230222T151651Z
LAST-MODIFIED:20230222T151651Z
DTSTART;TZID=America/Chicago:20230511T083000
DTEND;TZID=America/Chicago:20230511T123000
SUMMARY: Crucial Conversations
DESCRIPTION: Overview: A crucial conversation is a discussion between two o
 r more people where the stakes are high\, opinions vary\, and emotions run 
 strong. These conversations—when handled poorly or ignored—lead to strained
  relationships and dismal results. In this workshop\, participants will lea
 rn to: Improve dialogue and engagement Create behavior change Build high-pe
 rformance & culture Learn more and register here. 
X-ALT-DESC;FMTTYPE=text/html: <p><strong>Overview:</strong></p><p>A crucial
  conversation is a discussion between two or more people where the stakes a
 re high\, opinions vary\, and emotions run strong. These conversations—when
  handled poorly or ignored—lead to strained relationships and dismal result
 s. In this workshop\, participants will learn to:</p><ul><li>Improve dialog
 ue and engagement</li><li>Create behavior change</li><li>Build high-perform
 ance & culture</li></ul><p><a href="https://faculty.med.wustl.edu/calendar_
 event/crucial_conversations/">Learn more and register here. </a></p>
CATEGORIES:Office of Faculty Promotions &amp\; Career Development
LOCATION:Online - Zoom
GEO:38.635144;-90.262929
ORGANIZER;CN="McKinzie":MAILTO:tolliver.m@wustl.edu
URL;VALUE=URI:https://internalmedicine.wustl.edu/events/event/crucial-conve
 rsations-2/
END:VEVENT
BEGIN:VTIMEZONE
TZID:America/Chicago
BEGIN:DAYLIGHT
TZOFFSETFROM:-0600
TZOFFSETTO:-0500
DTSTART:20230312T080000
TZNAME:CDT
END:DAYLIGHT
END:VTIMEZONE
END:VCALENDAR
