BEGIN:VCALENDAR
VERSION:2.0
PRODID:-//John T. Milliken Department of Medicine//NONSGML Events//EN
CALSCALE:GREGORIAN
X-ORIGINAL-URL:https://internalmedicine.wustl.edu/events/
X-WR-CALDESC:John T. Milliken Department of Medicine - Events
BEGIN:VEVENT
UID:20230522T2208Z-1684793312.2414-EO-50969-1@172.23.128.18
STATUS:CONFIRMED
DTSTAMP:20260421T020556Z
CREATED:20230522T220724Z
LAST-MODIFIED:20230522T220724Z
DTSTART;TZID=America/Chicago:20230524T090000
DTEND;TZID=America/Chicago:20230524T120000
SUMMARY: Communicating with Impact and Influence
DESCRIPTION: This in-person workshop discusses how you can manage the diffe
 rences in ways that enhance your relationships\, increase your productivity
 \, and add richness to your life. View class details and register online.
X-ALT-DESC;FMTTYPE=text/html: <p>This in-person workshop discusses how you 
 can manage the differences in ways that enhance your relationships\, increa
 se your productivity\, and add richness to your life. <a href="https://t.e2
 ma.net/click/jgxblj/nrk01rf/3n0i9bc">View class details and register online
 </a>.</p>
LOCATION:The Link in the Loop
GEO:38.656075;-90.299855
ORGANIZER;CN="McKinzie":MAILTO:tolliver.m@wustl.edu
URL;VALUE=URI:https://internalmedicine.wustl.edu/events/event/communicating
 -with-impact-and-influence/
END:VEVENT
BEGIN:VTIMEZONE
TZID:America/Chicago
BEGIN:DAYLIGHT
TZOFFSETFROM:-0600
TZOFFSETTO:-0500
DTSTART:20230312T080000
TZNAME:CDT
END:DAYLIGHT
END:VTIMEZONE
END:VCALENDAR
