BEGIN:VCALENDAR
VERSION:2.0
PRODID:-//John T. Milliken Department of Medicine//NONSGML Events//EN
CALSCALE:GREGORIAN
X-ORIGINAL-URL:https://internalmedicine.wustl.edu/events/
X-WR-CALDESC:John T. Milliken Department of Medicine - Events
BEGIN:VEVENT
UID:20230125T1811Z-1674670288.1688-EO-48798-1@172.23.128.18
STATUS:CONFIRMED
DTSTAMP:20260419T041656Z
CREATED:20230125T174455Z
LAST-MODIFIED:20230125T174455Z
DTSTART;TZID=America/Chicago:20230214T153000
DTEND;TZID=America/Chicago:20230214T170000
SUMMARY: Career Development Seminar
DESCRIPTION: This seminar is part of the CRTC Career Development Seminar Se
 ries. The Career Development Seminar Series offers periodic workshops and p
 resentations open to all trainees\, faculty and staff on professional devel
 opment\, best practices\, resources and guidelines pertaining to research. 
 This seminar is co-sponsored by The Clinical Research Training Center\, Off
 ice of Faculty Development – Department of Medicine\, […]
X-ALT-DESC;FMTTYPE=text/html: <p>This seminar is part of the<strong> <a hre
 f="https://crtc.wustl.edu/resources/workshops-seminars/">CRTC Career Develo
 pment Seminar Series</a></strong>. The Career Development Seminar Series of
 fers periodic workshops and presentations open to all trainees\, faculty an
 d staff on professional development\, best practices\, resources and guidel
 ines pertaining to research.</p><p>This seminar is co-sponsored by The Clin
 ical Research Training Center\, Office of Faculty Development – Department 
 of Medicine\, IDEASatDOM\, and Goldfarb School of Nursing.</p><p><a href="h
 ttps://crtc.wustl.edu/events/event/effective-presentations/"><strong>Learn 
 more and register here.</strong></a></p>
CATEGORIES:Clinical Research Training Center (CRTC)
LOCATION:Moore Auditorium
GEO:38.634894;-90.261691
ORGANIZER;CN="McKinzie":MAILTO:tolliver.m@wustl.edu
URL;VALUE=URI:https://internalmedicine.wustl.edu/events/event/career-develo
 pment-seminar-6/
END:VEVENT
BEGIN:VTIMEZONE
TZID:America/Chicago
BEGIN:STANDARD
TZOFFSETFROM:-0500
TZOFFSETTO:-0600
DTSTART:20221106T070000
TZNAME:CST
END:STANDARD
END:VTIMEZONE
END:VCALENDAR
